BEGIN:VCALENDAR
VERSION:2.0
PRODID:-//Faculty Central - ECPv6.15.20//NONSGML v1.0//EN
CALSCALE:GREGORIAN
METHOD:PUBLISH
X-WR-CALNAME:Faculty Central
X-ORIGINAL-URL:https://facultycentral.ncsu.edu
X-WR-CALDESC:Events for Faculty Central
REFRESH-INTERVAL;VALUE=DURATION:PT1H
X-Robots-Tag:noindex
X-PUBLISHED-TTL:PT1H
BEGIN:VTIMEZONE
TZID:America/New_York
BEGIN:DAYLIGHT
TZOFFSETFROM:-0500
TZOFFSETTO:-0400
TZNAME:EDT
DTSTART:20190310T070000
END:DAYLIGHT
BEGIN:STANDARD
TZOFFSETFROM:-0400
TZOFFSETTO:-0500
TZNAME:EST
DTSTART:20191103T060000
END:STANDARD
BEGIN:DAYLIGHT
TZOFFSETFROM:-0500
TZOFFSETTO:-0400
TZNAME:EDT
DTSTART:20200308T070000
END:DAYLIGHT
BEGIN:STANDARD
TZOFFSETFROM:-0400
TZOFFSETTO:-0500
TZNAME:EST
DTSTART:20201101T060000
END:STANDARD
BEGIN:DAYLIGHT
TZOFFSETFROM:-0500
TZOFFSETTO:-0400
TZNAME:EDT
DTSTART:20210314T070000
END:DAYLIGHT
BEGIN:STANDARD
TZOFFSETFROM:-0400
TZOFFSETTO:-0500
TZNAME:EST
DTSTART:20211107T060000
END:STANDARD
END:VTIMEZONE
BEGIN:VEVENT
DTSTART;TZID=America/New_York:20200916T143000
DTEND;TZID=America/New_York:20200916T160000
DTSTAMP:20260420T143606
CREATED:20200817T172013Z
LAST-MODIFIED:20200915T210040Z
UID:10000158-1600266600-1600272000@facultycentral.ncsu.edu
SUMMARY:Post-Tenure Review Information Session
DESCRIPTION:Faculty Affairs staff from the Office of the Provost will provide general information and training on NC State’s post-tenure review process. This event is open to the campus community.\nThis session will take place via Zoom (restricted to authenticated NC State users):\nhttps://ncsu.zoom.us/j/95570621008\nMeeting ID: 955 7062 1008\nPlease contact Dr. Courtney Thornton\, Associate Vice Provost for Academic Personnel and Policy\, at chthornt@ncsu.edu with any questions.
URL:https://facultycentral.ncsu.edu/event/post-tenure-review-information-session/
LOCATION:Virtual Event
CATEGORIES:Department Heads,Faculty Central,Homepage
END:VEVENT
BEGIN:VEVENT
DTSTART;TZID=America/New_York:20200917T150000
DTEND;TZID=America/New_York:20200917T150000
DTSTAMP:20260420T143606
CREATED:20200818T171847Z
LAST-MODIFIED:20200914T210119Z
UID:10000159-1600354800-1600354800@facultycentral.ncsu.edu
SUMMARY:Post-Tenure Review Information Session
DESCRIPTION:Faculty Affairs staff from the Office of the Provost will provide general information and training on NC State’s post-tenure review process. This event is open to the campus community.\nThis session will take place via Zoom (restricted to authenticated NC State users):\nhttps://ncsu.zoom.us/j/92550713498\nMeeting ID: 925 5071 3498\nPlease contact Dr. Courtney Thornton\, Associate Vice Provost for Academic Personnel and Policy\, at chthornt@ncsu.edu with any questions.
URL:https://facultycentral.ncsu.edu/event/post-tenure-review-information-session-2/
LOCATION:Virtual Event
CATEGORIES:Department Heads,Faculty Central,Homepage
END:VEVENT
BEGIN:VEVENT
DTSTART;TZID=America/New_York:20200917T150000
DTEND;TZID=America/New_York:20200917T163000
DTSTAMP:20260420T143606
CREATED:20200915T210040Z
LAST-MODIFIED:20200916T210033Z
UID:10000160-1600354800-1600360200@facultycentral.ncsu.edu
SUMMARY:Post-Tenure Review Information Session
DESCRIPTION:Faculty Affairs staff from the Office of the Provost will provide general information and training on NC State’s post-tenure review process. This event is open to the campus community.\nThis session will take place via Zoom (restricted to authenticated NC State users):\nhttps://ncsu.zoom.us/j/92550713498\nMeeting ID: 925 5071 3498\nPlease contact Dr. Courtney Thornton\, Associate Vice Provost for Academic Personnel and Policy\, at chthornt@ncsu.edu with any questions.
URL:https://facultycentral.ncsu.edu/event/post-tenure-review-information-session-3/
LOCATION:Virtual Event
CATEGORIES:Department Heads,Faculty Central,Homepage
END:VEVENT
BEGIN:VEVENT
DTSTART;TZID=America/New_York:20200924T090000
DTEND;TZID=America/New_York:20200924T120000
DTSTAMP:20260420T143606
CREATED:20200917T210206Z
LAST-MODIFIED:20200924T043459Z
UID:10000152-1600938000-1600948800@facultycentral.ncsu.edu
SUMMARY:ReCONNECT to Move Forward: Impact on Higher Education and the Future of Work
DESCRIPTION:
URL:https://facultycentral.ncsu.edu/event/reconnect-to-move-forward-impact-on-higher-education-and-the-future-of-work/
LOCATION:Virtual Event
CATEGORIES:Faculty Central,Homepage
END:VEVENT
END:VCALENDAR