BEGIN:VCALENDAR
VERSION:2.0
PRODID:-//Faculty Central - ECPv6.15.20//NONSGML v1.0//EN
CALSCALE:GREGORIAN
METHOD:PUBLISH
X-WR-CALNAME:Faculty Central
X-ORIGINAL-URL:https://facultycentral.ncsu.edu
X-WR-CALDESC:Events for Faculty Central
REFRESH-INTERVAL;VALUE=DURATION:PT1H
X-Robots-Tag:noindex
X-PUBLISHED-TTL:PT1H
BEGIN:VTIMEZONE
TZID:America/New_York
BEGIN:DAYLIGHT
TZOFFSETFROM:-0500
TZOFFSETTO:-0400
TZNAME:EDT
DTSTART:20180311T070000
END:DAYLIGHT
BEGIN:STANDARD
TZOFFSETFROM:-0400
TZOFFSETTO:-0500
TZNAME:EST
DTSTART:20181104T060000
END:STANDARD
BEGIN:DAYLIGHT
TZOFFSETFROM:-0500
TZOFFSETTO:-0400
TZNAME:EDT
DTSTART:20190310T070000
END:DAYLIGHT
BEGIN:STANDARD
TZOFFSETFROM:-0400
TZOFFSETTO:-0500
TZNAME:EST
DTSTART:20191103T060000
END:STANDARD
BEGIN:DAYLIGHT
TZOFFSETFROM:-0500
TZOFFSETTO:-0400
TZNAME:EDT
DTSTART:20200308T070000
END:DAYLIGHT
BEGIN:STANDARD
TZOFFSETFROM:-0400
TZOFFSETTO:-0500
TZNAME:EST
DTSTART:20201101T060000
END:STANDARD
END:VTIMEZONE
BEGIN:VTIMEZONE
TZID:UTC
BEGIN:STANDARD
TZOFFSETFROM:+0000
TZOFFSETTO:+0000
TZNAME:UTC
DTSTART:20180101T000000
END:STANDARD
END:VTIMEZONE
BEGIN:VEVENT
DTSTART;TZID=America/New_York:20190418T173000
DTEND;TZID=America/New_York:20190418T183000
DTSTAMP:20260422T174138
CREATED:20190320T034322Z
LAST-MODIFIED:20190418T085134Z
UID:10000048-1555608600-1555612200@facultycentral.ncsu.edu
SUMMARY:State of the Sciences: Creativity Across Disciplines
DESCRIPTION:
URL:https://facultycentral.ncsu.edu/event/state-of-the-sciences-creativity-across-disciplines/
LOCATION:Talley Student Union\, Piedmont-Mountains Ballroom
CATEGORIES:Faculty Central,Homepage
END:VEVENT
BEGIN:VEVENT
DTSTART;VALUE=DATE:20190419
DTEND;VALUE=DATE:20190420
DTSTAMP:20260422T174138
CREATED:20190320T034322Z
LAST-MODIFIED:20190419T090123Z
UID:10000049-1555632000-1555718399@facultycentral.ncsu.edu
SUMMARY:Spring Holiday - No Classes
DESCRIPTION:
URL:https://facultycentral.ncsu.edu/event/spring-holiday-no-classes/
CATEGORIES:Faculty Central,Homepage
END:VEVENT
END:VCALENDAR