BEGIN:VCALENDAR
VERSION:2.0
PRODID:-//Faculty Central - ECPv6.15.20//NONSGML v1.0//EN
CALSCALE:GREGORIAN
METHOD:PUBLISH
X-WR-CALNAME:Faculty Central
X-ORIGINAL-URL:https://facultycentral.ncsu.edu
X-WR-CALDESC:Events for Faculty Central
REFRESH-INTERVAL;VALUE=DURATION:PT1H
X-Robots-Tag:noindex
X-PUBLISHED-TTL:PT1H
BEGIN:VTIMEZONE
TZID:America/New_York
BEGIN:DAYLIGHT
TZOFFSETFROM:-0500
TZOFFSETTO:-0400
TZNAME:EDT
DTSTART:20180311T070000
END:DAYLIGHT
BEGIN:STANDARD
TZOFFSETFROM:-0400
TZOFFSETTO:-0500
TZNAME:EST
DTSTART:20181104T060000
END:STANDARD
BEGIN:DAYLIGHT
TZOFFSETFROM:-0500
TZOFFSETTO:-0400
TZNAME:EDT
DTSTART:20190310T070000
END:DAYLIGHT
BEGIN:STANDARD
TZOFFSETFROM:-0400
TZOFFSETTO:-0500
TZNAME:EST
DTSTART:20191103T060000
END:STANDARD
BEGIN:DAYLIGHT
TZOFFSETFROM:-0500
TZOFFSETTO:-0400
TZNAME:EDT
DTSTART:20200308T070000
END:DAYLIGHT
BEGIN:STANDARD
TZOFFSETFROM:-0400
TZOFFSETTO:-0500
TZNAME:EST
DTSTART:20201101T060000
END:STANDARD
END:VTIMEZONE
BEGIN:VEVENT
DTSTART;TZID=America/New_York:20191203T163000
DTEND;TZID=America/New_York:20191203T180000
DTSTAMP:20260422T200232
CREATED:20191121T180128Z
LAST-MODIFIED:20191202T181856Z
UID:10000094-1575390600-1575396000@facultycentral.ncsu.edu
SUMMARY:Gubernatorial Leadership in the Face of Disaster: Gov. Jim Hunt
DESCRIPTION:
URL:https://facultycentral.ncsu.edu/event/gubernatorial-leadership-in-the-face-of-disaster-gov-jim-hunt/
LOCATION:Kamphoefner Hall\, Burns Auditorium\, 2221 Katharine Stinson Dr.\, Raleigh\, NC\, 27607\, 2200 Katherine Stinson Dr\, United States
CATEGORIES:Faculty Central,Homepage
GEO:35.785218;-78.666049
X-APPLE-STRUCTURED-LOCATION;VALUE=URI;X-ADDRESS=Kamphoefner Hall Burns Auditorium 2221 Katharine Stinson Dr. Raleigh NC 27607 2200 Katherine Stinson Dr United States;X-APPLE-RADIUS=500;X-TITLE=2200 Katherine Stinson Dr:geo:-78.666049,35.785218
END:VEVENT
BEGIN:VEVENT
DTSTART;VALUE=DATE:20191205
DTEND;VALUE=DATE:20191207
DTSTAMP:20260422T200232
CREATED:20191204T190118Z
LAST-MODIFIED:20191205T192907Z
UID:10000095-1575504000-1575676799@facultycentral.ncsu.edu
SUMMARY:Last Day of Classes for 2019 Fall Semester
DESCRIPTION:
URL:https://facultycentral.ncsu.edu/event/last-day-of-classes-for-2019-fall-semester/
CATEGORIES:Faculty Central,Homepage
END:VEVENT
END:VCALENDAR