BEGIN:VCALENDAR
VERSION:2.0
PRODID:-//Faculty Central - ECPv6.15.20//NONSGML v1.0//EN
CALSCALE:GREGORIAN
METHOD:PUBLISH
X-WR-CALNAME:Faculty Central
X-ORIGINAL-URL:https://facultycentral.ncsu.edu
X-WR-CALDESC:Events for Faculty Central
REFRESH-INTERVAL;VALUE=DURATION:PT1H
X-Robots-Tag:noindex
X-PUBLISHED-TTL:PT1H
BEGIN:VTIMEZONE
TZID:America/New_York
BEGIN:DAYLIGHT
TZOFFSETFROM:-0500
TZOFFSETTO:-0400
TZNAME:EDT
DTSTART:20180311T070000
END:DAYLIGHT
BEGIN:STANDARD
TZOFFSETFROM:-0400
TZOFFSETTO:-0500
TZNAME:EST
DTSTART:20181104T060000
END:STANDARD
BEGIN:DAYLIGHT
TZOFFSETFROM:-0500
TZOFFSETTO:-0400
TZNAME:EDT
DTSTART:20190310T070000
END:DAYLIGHT
BEGIN:STANDARD
TZOFFSETFROM:-0400
TZOFFSETTO:-0500
TZNAME:EST
DTSTART:20191103T060000
END:STANDARD
BEGIN:DAYLIGHT
TZOFFSETFROM:-0500
TZOFFSETTO:-0400
TZNAME:EDT
DTSTART:20200308T070000
END:DAYLIGHT
BEGIN:STANDARD
TZOFFSETFROM:-0400
TZOFFSETTO:-0500
TZNAME:EST
DTSTART:20201101T060000
END:STANDARD
END:VTIMEZONE
BEGIN:VEVENT
DTSTART;TZID=America/New_York:20191210T110000
DTEND;TZID=America/New_York:20191210T130000
DTSTAMP:20260421T021342
CREATED:20191204T190119Z
LAST-MODIFIED:20191209T200208Z
UID:10000096-1575975600-1575982800@facultycentral.ncsu.edu
SUMMARY:Chancellor’s Holiday Open House
DESCRIPTION:
URL:https://facultycentral.ncsu.edu/event/chancellors-holiday-open-house/
LOCATION:The Point\, 1570 Main Campus Drive\, Centennial Campus
CATEGORIES:Faculty Central,Homepage
GEO:35.758586;-78.6876106
END:VEVENT
BEGIN:VEVENT
DTSTART;TZID=America/New_York:20191210T120000
DTEND;TZID=America/New_York:20191210T133000
DTSTAMP:20260421T021342
CREATED:20191204T190119Z
LAST-MODIFIED:20191209T200210Z
UID:10000097-1575979200-1575984600@facultycentral.ncsu.edu
SUMMARY:RLA Forum: Communicating Your Research
DESCRIPTION:
URL:https://facultycentral.ncsu.edu/event/rla-forum-communicating-your-research-2/
LOCATION:Hunt Library\, Duke Energy Hall\, 1070 Partners Way\, Raleigh\, NC\, United States\, 301 Hall Rd\, United States
CATEGORIES:Faculty Central,Homepage
GEO:35.958616;-82.209738
X-APPLE-STRUCTURED-LOCATION;VALUE=URI;X-ADDRESS=Hunt Library Duke Energy Hall 1070 Partners Way Raleigh NC United States 301 Hall Rd United States;X-APPLE-RADIUS=500;X-TITLE=301 Hall Rd:geo:-82.209738,35.958616
END:VEVENT
END:VCALENDAR