BEGIN:VCALENDAR
VERSION:2.0
PRODID:-//Faculty Central - ECPv6.15.20//NONSGML v1.0//EN
CALSCALE:GREGORIAN
METHOD:PUBLISH
X-WR-CALNAME:Faculty Central
X-ORIGINAL-URL:https://facultycentral.ncsu.edu
X-WR-CALDESC:Events for Faculty Central
REFRESH-INTERVAL;VALUE=DURATION:PT1H
X-Robots-Tag:noindex
X-PUBLISHED-TTL:PT1H
BEGIN:VTIMEZONE
TZID:America/New_York
BEGIN:DAYLIGHT
TZOFFSETFROM:-0500
TZOFFSETTO:-0400
TZNAME:EDT
DTSTART:20190310T070000
END:DAYLIGHT
BEGIN:STANDARD
TZOFFSETFROM:-0400
TZOFFSETTO:-0500
TZNAME:EST
DTSTART:20191103T060000
END:STANDARD
BEGIN:DAYLIGHT
TZOFFSETFROM:-0500
TZOFFSETTO:-0400
TZNAME:EDT
DTSTART:20200308T070000
END:DAYLIGHT
BEGIN:STANDARD
TZOFFSETFROM:-0400
TZOFFSETTO:-0500
TZNAME:EST
DTSTART:20201101T060000
END:STANDARD
BEGIN:DAYLIGHT
TZOFFSETFROM:-0500
TZOFFSETTO:-0400
TZNAME:EDT
DTSTART:20210314T070000
END:DAYLIGHT
BEGIN:STANDARD
TZOFFSETFROM:-0400
TZOFFSETTO:-0500
TZNAME:EST
DTSTART:20211107T060000
END:STANDARD
END:VTIMEZONE
BEGIN:VEVENT
DTSTART;TZID=America/New_York:20200511T090000
DTEND;TZID=America/New_York:20200511T093000
DTSTAMP:20260423T184809
CREATED:20200411T031936Z
LAST-MODIFIED:20200511T123435Z
UID:10000135-1589187600-1589189400@facultycentral.ncsu.edu
SUMMARY:Mindful Mondays
DESCRIPTION:
URL:https://facultycentral.ncsu.edu/event/mindful-mondays-13/
CATEGORIES:Faculty Central,Homepage
END:VEVENT
BEGIN:VEVENT
DTSTART;TZID=America/New_York:20200511T120000
DTEND;TZID=America/New_York:20200511T123000
DTSTAMP:20260423T184809
CREATED:20200411T031936Z
LAST-MODIFIED:20200511T123436Z
UID:10000136-1589198400-1589200200@facultycentral.ncsu.edu
SUMMARY:Mindful Mondays
DESCRIPTION:
URL:https://facultycentral.ncsu.edu/event/mindful-mondays-14/
CATEGORIES:Faculty Central,Homepage
END:VEVENT
BEGIN:VEVENT
DTSTART;TZID=America/New_York:20200514T130000
DTEND;TZID=America/New_York:20200514T143000
DTSTAMP:20260423T184809
CREATED:20200512T124837Z
LAST-MODIFIED:20200514T130157Z
UID:10000138-1589461200-1589466600@facultycentral.ncsu.edu
SUMMARY:Fulbright Informational Session
DESCRIPTION:
URL:https://facultycentral.ncsu.edu/event/fulbright-informational-session/
CATEGORIES:Faculty Central,Homepage
END:VEVENT
BEGIN:VEVENT
DTSTART;TZID=America/New_York:20200515T090000
DTEND;TZID=America/New_York:20200515T100000
DTSTAMP:20260423T184809
CREATED:20200512T124838Z
LAST-MODIFIED:20200514T130158Z
UID:10000139-1589533200-1589536800@facultycentral.ncsu.edu
SUMMARY:COVID-19 Unites Us All: Technologies for Remote Care
DESCRIPTION:
URL:https://facultycentral.ncsu.edu/event/covid-19-unites-us-all-technologies-for-remote-care/
CATEGORIES:Faculty Central,Homepage
END:VEVENT
END:VCALENDAR