BEGIN:VCALENDAR
VERSION:2.0
PRODID:-//Faculty Central - ECPv6.15.20//NONSGML v1.0//EN
CALSCALE:GREGORIAN
METHOD:PUBLISH
X-WR-CALNAME:Faculty Central
X-ORIGINAL-URL:https://facultycentral.ncsu.edu
X-WR-CALDESC:Events for Faculty Central
REFRESH-INTERVAL;VALUE=DURATION:PT1H
X-Robots-Tag:noindex
X-PUBLISHED-TTL:PT1H
BEGIN:VTIMEZONE
TZID:America/New_York
BEGIN:DAYLIGHT
TZOFFSETFROM:-0500
TZOFFSETTO:-0400
TZNAME:EDT
DTSTART:20190310T070000
END:DAYLIGHT
BEGIN:STANDARD
TZOFFSETFROM:-0400
TZOFFSETTO:-0500
TZNAME:EST
DTSTART:20191103T060000
END:STANDARD
BEGIN:DAYLIGHT
TZOFFSETFROM:-0500
TZOFFSETTO:-0400
TZNAME:EDT
DTSTART:20200308T070000
END:DAYLIGHT
BEGIN:STANDARD
TZOFFSETFROM:-0400
TZOFFSETTO:-0500
TZNAME:EST
DTSTART:20201101T060000
END:STANDARD
BEGIN:DAYLIGHT
TZOFFSETFROM:-0500
TZOFFSETTO:-0400
TZNAME:EDT
DTSTART:20210314T070000
END:DAYLIGHT
BEGIN:STANDARD
TZOFFSETFROM:-0400
TZOFFSETTO:-0500
TZNAME:EST
DTSTART:20211107T060000
END:STANDARD
END:VTIMEZONE
BEGIN:VEVENT
DTSTART;TZID=America/New_York:20200731T090000
DTEND;TZID=America/New_York:20200804T153000
DTSTAMP:20260423T202339
CREATED:20200720T163206Z
LAST-MODIFIED:20200730T164615Z
UID:10000155-1596186000-1596555000@facultycentral.ncsu.edu
SUMMARY:Summer Shorts in Instructional Technologies 2020 - Via Zoom
DESCRIPTION:
URL:https://facultycentral.ncsu.edu/event/summer-shorts-in-instructional-technologies-2020-via-zoom/
CATEGORIES:Faculty Central,Homepage
END:VEVENT
BEGIN:VEVENT
DTSTART;TZID=America/New_York:20200804T130000
DTEND;TZID=America/New_York:20200804T140000
DTSTAMP:20260423T202339
CREATED:20200720T163206Z
LAST-MODIFIED:20200804T164625Z
UID:10000156-1596546000-1596549600@facultycentral.ncsu.edu
SUMMARY:Accessibility Amidst a Virtual Environment - Via Zoom
DESCRIPTION:
URL:https://facultycentral.ncsu.edu/event/accessibility-amidst-a-virtual-environment-via-zoom/
CATEGORIES:Faculty Central,Homepage
END:VEVENT
BEGIN:VEVENT
DTSTART;TZID=America/New_York:20200809T160000
DTEND;TZID=America/New_York:20200809T173000
DTSTAMP:20260423T202339
CREATED:20200805T164736Z
LAST-MODIFIED:20200809T170034Z
UID:10000157-1596988800-1596994200@facultycentral.ncsu.edu
SUMMARY:New Student Convocation (Virtual Event)
DESCRIPTION:
URL:https://facultycentral.ncsu.edu/event/new-student-convocation-virtual-event/
LOCATION:Reynolds Coliseum\, 2299 E Dunn Ave\, Raleigh\, NC\, United States
CATEGORIES:Faculty Central,Homepage
GEO:35.78282;-78.665464
X-APPLE-STRUCTURED-LOCATION;VALUE=URI;X-ADDRESS=Reynolds Coliseum 2299 E Dunn Ave Raleigh NC United States;X-APPLE-RADIUS=500;X-TITLE=2299 E Dunn Ave:geo:-78.665464,35.78282
END:VEVENT
END:VCALENDAR